BEGIN:VCALENDAR
VERSION:2.0
PRODID:-//springclearance.org//NONSGML kigkonsult.se iCalcreator 2.30.10//
CALSCALE:GREGORIAN
METHOD:PUBLISH
UID:52cdd1ef-32c1-4602-b188-748129c5ab12
X-WR-CALDESC:On behalf of the Spring Clearance 2026 Planning Committee\, th
 ank you for the incredible response to Spring Clearance 2026: United In Gr
 atitude ~ Unidos En Gratitud.\n\nAt this time\, paid weekend registration 
 is fully sold out.\n\nBecause of the strong interest\, we have opened a wa
 itlist for those who would still like to attend.\n\nAs spaces become avail
 able\, individuals on the waitlist will be contacted in the order their su
 bmission was received and given the opportunity to register.\n\nIf you wou
 ld like to be added to the waitlist\, please complete the waitlist form at
  the link above.\n\nWe are deeply grateful for your enthusiasm and support
 . The response to this year’s retreat is a testament to the strength of th
 is community.\n\nIn service\,\nMark V.\nRegistration Chair\nSpring Clearan
 ce 2026\n\nEn nombre del Comité de Planificación de Spring Clearance 2026\
 , gracias por la increíble respuesta a Spring Clearance 2026: Unidos En Gr
 atitud.\n\nEn este momento\, la inscripción pagada para el fin de semana e
 stá completamente agotada.\n\nDebido al alto interés\, hemos abierto una l
 ista de espera para quienes todavía deseen asistir.\n\nA medida que se lib
 eren espacios\, se contactará a las personas en la lista de espera en el o
 rden en que enviaron su solicitud y se les dará la oportunidad de registra
 rse.\n\nSi deseas ser añadido a la lista de espera\, por favor completa el
  formulario correspondiente en el enlace indicado arriba.\n\nAgradecemos p
 rofundamente tu entusiasmo y apoyo. La respuesta a este retiro refleja la 
 fortaleza de nuestra comunidad.\n\nEn servicio\,\nMark V.\nRegistration Ch
 air\nSpring Clearance 2026
X-WR-RELCALID:08d2a7b172ee7aee5d9d075cc768483a
X-WR-TIMEZONE:America/New_York
BEGIN:VTIMEZONE
TZID:America/New_York
BEGIN:STANDARD
TZNAME:EST
DTSTART:20251102T020000
TZOFFSETFROM:-0400
TZOFFSETTO:-0500
RDATE:20261101T020000
END:STANDARD
BEGIN:DAYLIGHT
TZNAME:EDT
DTSTART:20260308T020000
TZOFFSETFROM:-0500
TZOFFSETTO:-0400
RDATE:20270314T020000
END:DAYLIGHT
END:VTIMEZONE
BEGIN:VEVENT
UID:b63d2eaf-5611-4ad6-95bb-542a1a50f36c
DTSTAMP:20260420T215038Z
DESCRIPTION:On behalf of the Spring Clearance 2026 Planning Committee\, tha
 nk you for the incredible response to Spring Clearance 2026: United In Gra
 titude ~ Unidos En Gratitud.\n\nAt this time\, paid weekend registration i
 s fully sold out.\n\nBecause of the strong interest\, we have opened a wai
 tlist for those who would still like to attend.\n\nAs spaces become availa
 ble\, individuals on the waitlist will be contacted in the order their sub
 mission was received and given the opportunity to register.\n\nIf you woul
 d like to be added to the waitlist\, please complete the waitlist form at 
 the link above.\n\nWe are deeply grateful for your enthusiasm and support.
  The response to this year’s retreat is a testament to the strength of thi
 s community.\n\nIn service\,\nMark V.\nRegistration Chair\nSpring Clearanc
 e 2026\n\nEn nombre del Comité de Planificación de Spring Clearance 2026\,
  gracias por la increíble respuesta a Spring Clearance 2026: Unidos En Gra
 titud.\n\nEn este momento\, la inscripción pagada para el fin de semana es
 tá completamente agotada.\n\nDebido al alto interés\, hemos abierto una li
 sta de espera para quienes todavía deseen asistir.\n\nA medida que se libe
 ren espacios\, se contactará a las personas en la lista de espera en el or
 den en que enviaron su solicitud y se les dará la oportunidad de registrar
 se.\n\nSi deseas ser añadido a la lista de espera\, por favor completa el 
 formulario correspondiente en el enlace indicado arriba.\n\nAgradecemos pr
 ofundamente tu entusiasmo y apoyo. La respuesta a este retiro refleja la f
 ortaleza de nuestra comunidad.\n\nEn servicio\,\nMark V.\nRegistration Cha
 ir\nSpring Clearance 2026
DTSTART;TZID=America/New_York:20260424T060000
DTEND;TZID=America/New_York:20260426T060001
LOCATION:Interlaken Inn
SUMMARY:WAITING LIST 2026
END:VEVENT
END:VCALENDAR
