BEGIN:VCALENDAR
VERSION:2.0
PRODID:-//springclearance.org//NONSGML kigkonsult.se iCalcreator 2.30.10//
CALSCALE:GREGORIAN
METHOD:PUBLISH
UID:be64cd4e-dfd6-4a3b-af61-03bff34fe05f
X-WR-CALDESC:The Day Pass registration is available to a limited number of 
 individuals who will be arranging alternate transportation and lodging nea
 rby.\n\nThis pass includes all meals\, snacks\, coffee\, and full access t
 o workshops\, activities\, and entertainment during daytime/evening hours.
  \n\nPlease note: Overnight stays on the Interlaken property are not permi
 tted.\n\nAs always:\n\nAll ticket sales are FINAL\n\nThere will be no refu
 nds if you cannot attend the retreat for any reason.
X-WR-RELCALID:2e314a127c93603c804695db7bf359e9
X-WR-TIMEZONE:America/New_York
BEGIN:VTIMEZONE
TZID:America/New_York
BEGIN:STANDARD
TZNAME:EST
DTSTART:20251102T020000
TZOFFSETFROM:-0400
TZOFFSETTO:-0500
RDATE:20261101T020000
END:STANDARD
BEGIN:DAYLIGHT
TZNAME:EDT
DTSTART:20260308T020000
TZOFFSETFROM:-0500
TZOFFSETTO:-0400
RDATE:20270314T020000
END:DAYLIGHT
END:VTIMEZONE
BEGIN:VEVENT
UID:29b847f5-4ff1-475f-b4fb-edf18f43395a
DTSTAMP:20260420T214221Z
DESCRIPTION:The Day Pass registration is available to a limited number of i
 ndividuals who will be arranging alternate transportation and lodging near
 by.\n\nThis pass includes all meals\, snacks\, coffee\, and full access to
  workshops\, activities\, and entertainment during daytime/evening hours. 
 \n\nPlease note: Overnight stays on the Interlaken property are not permit
 ted.\n\nAs always:\n\nAll ticket sales are FINAL\n\nThere will be no refun
 ds if you cannot attend the retreat for any reason.
DTSTART;TZID=America/New_York:20260424T060000
DTEND;TZID=America/New_York:20260426T060001
LOCATION:
SUMMARY:2026 DAYPASS ($350)
END:VEVENT
END:VCALENDAR
